BEGIN:VCALENDAR
VERSION:2.0
PRODID:-//Marbella Chic - ECPv6.10.1//NONSGML v1.0//EN
CALSCALE:GREGORIAN
METHOD:PUBLISH
X-ORIGINAL-URL:https://marbellachic.com
X-WR-CALDESC:Eventos para Marbella Chic
REFRESH-INTERVAL;VALUE=DURATION:PT1H
X-Robots-Tag:noindex
X-PUBLISHED-TTL:PT1H
BEGIN:VTIMEZONE
TZID:Europe/Madrid
BEGIN:DAYLIGHT
TZOFFSETFROM:+0100
TZOFFSETTO:+0200
TZNAME:CEST
DTSTART:20230326T010000
END:DAYLIGHT
BEGIN:STANDARD
TZOFFSETFROM:+0200
TZOFFSETTO:+0100
TZNAME:CET
DTSTART:20231029T010000
END:STANDARD
END:VTIMEZONE
BEGIN:VEVENT
DTSTART;TZID=Europe/Madrid:20230714T220000
DTEND;TZID=Europe/Madrid:20230715T233000
DTSTAMP:20260421T185753
CREATED:20230710T100548Z
LAST-MODIFIED:20230710T100627Z
UID:25135-1689372000-1689463800@marbellachic.com
SUMMARY:XVI Festival Flamenco de Monda
DESCRIPTION:XVI Festival Flamenco de Monda. Los días 14 y 15 de julio la Plaza de la Constitución de Monda acogerá a partir de las diez de la noche la decimosexta edición de su festival flamenco con Remedios Amaya y Antonio Ortega \nMarbella 10 julio 2023.- Monda se rendirá a la hondura flamenca el próximo fin de semana con la celebración de la decimosexta edición de su festival que tendrá en la figura de Remedios Amaya su mayor reclamo a la que acompañarán Antonio Ortega\, Cancanilla y El Boleco. \nEl XVI Festival Villa de Monda se reparte en dos jornadas. La primera de ellas tendrá lugar el viernes 14 de julio con las actuaciones de Diego Marín\, José Palomo Marín\, Francisco Fernández y Miguel Bernal al cante; Salvador Bernal al toque y Aire Andaluz al baile. \nEl sábado 15 de julio Remedios Amaya\, Antonio Ortega\, Cancanilla y El Boleco al cante; Antonio Carrión\, El Perla y Nono Reyes al toque con la actuación de Manuela Carpio al baile que está acompañada por Enrique El Extremeño\, Miguel Lavi\, Manuel Tañé al cante y Juan Diego a la guitarra.
URL:https://marbellachic.com/evento-marbella/xvi-festival-flamenco-de-monda/
LOCATION:Monda\, Monda\, Málaga
CATEGORIES:Conciertos
ATTACH;FMTTYPE=image/jpeg:https://marbellachic.com/wp-content/uploads/2023/07/09-JUL-2023-Monda-NP-Festival-Flamenco.jpeg
END:VEVENT
END:VCALENDAR