BEGIN:VCALENDAR
VERSION:2.0
PRODID:-//Marbella Chic - ECPv6.10.1//NONSGML v1.0//EN
CALSCALE:GREGORIAN
METHOD:PUBLISH
X-ORIGINAL-URL:https://marbellachic.com
X-WR-CALDESC:Eventos para Marbella Chic
REFRESH-INTERVAL;VALUE=DURATION:PT1H
X-Robots-Tag:noindex
X-PUBLISHED-TTL:PT1H
BEGIN:VTIMEZONE
TZID:Europe/Madrid
BEGIN:DAYLIGHT
TZOFFSETFROM:+0100
TZOFFSETTO:+0200
TZNAME:CEST
DTSTART:20230326T010000
END:DAYLIGHT
BEGIN:STANDARD
TZOFFSETFROM:+0200
TZOFFSETTO:+0100
TZNAME:CET
DTSTART:20231029T010000
END:STANDARD
END:VTIMEZONE
BEGIN:VEVENT
DTSTART;TZID=Europe/Madrid:20230901T193000
DTEND;TZID=Europe/Madrid:20230909T223000
DTSTAMP:20260421T233958
CREATED:20230901T114113Z
LAST-MODIFIED:20230901T114113Z
UID:25443-1693596600-1694298600@marbellachic.com
SUMMARY:VIII Festival Internacional de Música de Marbella
DESCRIPTION:VIII Festival Internacional de Música de Marbella. Tendrá lugar del 1 al 9 de Septiembre de 2023. Os dejamos el programa
URL:https://marbellachic.com/evento-marbella/viii-festival-internacional-de-musica-de-marbella/
LOCATION:marbella\, Marbella\, Marbella\, Málaga\, España
CATEGORIES:Conciertos
ATTACH;FMTTYPE=image/jpeg:https://marbellachic.com/wp-content/uploads/2023/09/Sin-titulo-1.jpg
END:VEVENT
BEGIN:VEVENT
DTSTART;TZID=Europe/Madrid:20230916T170000
DTEND;TZID=Europe/Madrid:20230916T233000
DTSTAMP:20260421T233958
CREATED:20230908T122109Z
LAST-MODIFIED:20230908T122109Z
UID:25482-1694883600-1694907000@marbellachic.com
SUMMARY:XIX Festival San Pedro Rock
DESCRIPTION:El XIX Festival San Pedro Rock llenará el 16 de septiembre de música el Parque de Los Tres Jardines\, con la banda canadiense Pointed Sticks como cabeza de cartel.El evento\, que dará comienzo a las 17.00 horas\, contará igualmente con cinco grupos locales y la formación madrileña Los Chicos\, así como con un área con actividades infantiles y otra de restauración \nMarbella\, 8 de septiembre de 2023.- El XIX Festival San Pedro Rock llenará el próximo 16 de septiembre de música el Parque de Los Tres Jardines\, con la banda canadiense Pointed Sticks como cabeza de cartel. El evento\, de entrada gratuita y que dará comienzo a las 17.00 horas\, contará igualmente con cinco grupos locales –Desamparados en Guirilandia\, Natura\, Radement\, Rata Pendón y Rob Sas Band- y la formación madrileña Los Chicos\, así como con un área con actividades infantiles y otra de restauración. \n \nEl evento comenzará a las 17.00 horas con Rob Sas Band\, una banda de clásicos del rock\, a quien le seguirán Rata Pendón\, “uno de los grupos más desvergonzados del panorama local que hacen punk ‘choni’”; la formación de heavy metal Radement; Natura\, “el primer grupo de San Pedro que grabaron y giraron por los Estados Unidos”\, y los sampedreños Desamparados en Guirilandia. \nEn la recta final\, se subirán los internacionales del punk rock Pointed Sticks\, que han incluido este festival en su gira europea de despedida de los escenarios\, y Los Chicos\, “la mejor banda de rock and roll ibérico quitapenas”.
URL:https://marbellachic.com/evento-marbella/xix-festival-san-pedro-rock/
LOCATION:Parque de los Tres Jardines\, Conjunto San Pedro del Mar\, 6\, San Pedro Alcántara\, Marbella\, Málaga\, 29670\, España
CATEGORIES:Conciertos
ATTACH;FMTTYPE=image/jpeg:https://marbellachic.com/wp-content/uploads/2023/09/Cartel_20230916_San-Pedro-Rock.jpg
END:VEVENT
END:VCALENDAR