BEGIN:VCALENDAR
VERSION:2.0
PRODID:-//Marbella Chic - ECPv6.10.1//NONSGML v1.0//EN
CALSCALE:GREGORIAN
METHOD:PUBLISH
X-WR-CALNAME:Marbella Chic
X-ORIGINAL-URL:https://marbellachic.com
X-WR-CALDESC:Eventos para Marbella Chic
REFRESH-INTERVAL;VALUE=DURATION:PT1H
X-Robots-Tag:noindex
X-PUBLISHED-TTL:PT1H
BEGIN:VTIMEZONE
TZID:Europe/Madrid
BEGIN:DAYLIGHT
TZOFFSETFROM:+0100
TZOFFSETTO:+0200
TZNAME:CEST
DTSTART:20230326T010000
END:DAYLIGHT
BEGIN:STANDARD
TZOFFSETFROM:+0200
TZOFFSETTO:+0100
TZNAME:CET
DTSTART:20231029T010000
END:STANDARD
END:VTIMEZONE
BEGIN:VEVENT
DTSTART;TZID=Europe/Madrid:20230521T200000
DTEND;TZID=Europe/Madrid:20230521T220000
DTSTAMP:20260420T102005
CREATED:20230510T162817Z
LAST-MODIFIED:20230510T162817Z
UID:24574-1684699200-1684706400@marbellachic.com
SUMMARY:Musical de los 80´s a los 90´s en Estepona
DESCRIPTION:Musical de los 80´s a los 90´s en Estepona. El Auditorio Felipe VI acogerá “El musical de los 80’s a los 90’s” para todos los públicos. El evento se celebrará el domingo 21 de mayo\, a las 20:00 horas. \nMarbella\, 10 de mayo de 2023.- La Compañía Onbeat presentará el próximo domingo 21 de mayo\, a las 20:00 horas\, en el Auditorio Felipe VI\, ‘El musical de los 80s 90s’\, la comedia musical original más divertida del año\, recomendada para todos los públicos. \nEl musical de una época única en el que el público compartirá la experiencia de los personajes\, cantando\, bailando y siendo cómplices de cada uno de ellos. El mejor pop español de los 80 y 90 se mezcla con éxitos internacionales y con las mejores canciones del verano que marcaron nuestra juventud. El musical más bailado de la historia. \nLa inauguración de un bar es la excusa perfecta para organizar el reencuentro de los amigos del instituto que terminaron sus estudios hace 25 años\, comenzando juntos en el 90. \nLa Movida del Bacalao es la sede donde se reúnen para recordar una época que marcó la vida de sus protagonistas\, al ritmo de la mejor música de aquella juventud\, donde no existían redes sociales. \nCon el recuerdo de antaño\, la realidad demuestra que la vida de esos antiguos amigos ha cambiado mucho respecto a lo que esperaban (unos más que otros); pero ellos\, en el fondo\, siguen siendo los mismos. \nVenta de entradas en www.tafestepona.com\, y en taquilla del Auditorio el día del espectáculo\, desde dos horas antes del inicio.
URL:https://marbellachic.com/evento-marbella/musical-de-los-80s-a-los-90s-en-estepona/
LOCATION:Estepona-Auditorio\, Calle Diputado Ignacio\, Mena\, s/n\,\, Estepona\, Málaga\, 29680\, España
CATEGORIES:Conciertos
ATTACH;FMTTYPE=image/jpeg:https://marbellachic.com/wp-content/uploads/2023/05/230521-Cartel-21-05-23-Musical-80¨90.jpeg
END:VEVENT
END:VCALENDAR