BEGIN:VCALENDAR
VERSION:2.0
PRODID:-//Marbella Chic - ECPv6.10.1//NONSGML v1.0//EN
CALSCALE:GREGORIAN
METHOD:PUBLISH
X-ORIGINAL-URL:https://marbellachic.com
X-WR-CALDESC:Eventos para Marbella Chic
REFRESH-INTERVAL;VALUE=DURATION:PT1H
X-Robots-Tag:noindex
X-PUBLISHED-TTL:PT1H
BEGIN:VTIMEZONE
TZID:Europe/Madrid
BEGIN:DAYLIGHT
TZOFFSETFROM:+0100
TZOFFSETTO:+0200
TZNAME:CEST
DTSTART:20230326T010000
END:DAYLIGHT
BEGIN:STANDARD
TZOFFSETFROM:+0200
TZOFFSETTO:+0100
TZNAME:CET
DTSTART:20231029T010000
END:STANDARD
END:VTIMEZONE
BEGIN:VEVENT
DTSTART;TZID=Europe/Madrid:20230227T203000
DTEND;TZID=Europe/Madrid:20230227T230000
DTSTAMP:20260423T124336
CREATED:20230223T123600Z
LAST-MODIFIED:20230223T123719Z
UID:23851-1677529800-1677538800@marbellachic.com
SUMMARY:Experiencia gastronómica en Boho Club Marbella
DESCRIPTION:Experiencia gastronómica en Boho Club Marbella. Boho Club Marbella organiza una nueva experiencia gastronómica a cargo del chef Diego del Río… \nEn esta ocasión Diego del Río\, rinde homenaje junto a sus compañeros Daniel Ochoa\, Restaurante Montia y Miguel Ángel de la Cruz\, restaurante La Botica\, ambos con estrella Michelín\, a una auténtica cocina de mercado\, elaborada únicamente con productos de cercanía. \nUn tributo a la tierra y la tradición llevando el paisaje de su entorno al plato con un menú degustación a seis manos donde se pone en valor todo aquello que ofrece la naturaleza y la sensibilidad en la cocina.  \n 
URL:https://marbellachic.com/evento-marbella/experiencia-gastronomica-en-boho-club-marbella/
LOCATION:boho club marbella\, Urb. Lomas de Río Verde\, 144\, Marbella\, Málaga\, 29602\, España
CATEGORIES:jornada gastronómica
ATTACH;FMTTYPE=image/jpeg:https://marbellachic.com/wp-content/uploads/2023/02/IMG_0925.jpg
END:VEVENT
END:VCALENDAR