BEGIN:VCALENDAR
VERSION:2.0
PRODID:-//Marbella Chic - ECPv6.10.1//NONSGML v1.0//EN
CALSCALE:GREGORIAN
METHOD:PUBLISH
X-WR-CALNAME:Marbella Chic
X-ORIGINAL-URL:https://marbellachic.com
X-WR-CALDESC:Eventos para Marbella Chic
REFRESH-INTERVAL;VALUE=DURATION:PT1H
X-Robots-Tag:noindex
X-PUBLISHED-TTL:PT1H
BEGIN:VTIMEZONE
TZID:Europe/Madrid
BEGIN:DAYLIGHT
TZOFFSETFROM:+0100
TZOFFSETTO:+0200
TZNAME:CEST
DTSTART:20260329T010000
END:DAYLIGHT
BEGIN:STANDARD
TZOFFSETFROM:+0200
TZOFFSETTO:+0100
TZNAME:CET
DTSTART:20261025T010000
END:STANDARD
END:VTIMEZONE
BEGIN:VEVENT
DTSTART;TZID=Europe/Madrid:20260214T080000
DTEND;TZID=Europe/Madrid:20260214T170000
DTSTAMP:20260419T163452
CREATED:20260211T114403Z
LAST-MODIFIED:20260211T114403Z
UID:32750-1771056000-1771088400@marbellachic.com
SUMMARY:Sierra Blanca Trail y Epic Trail
DESCRIPTION:Marbella refuerza su liderazgo en las carreras de montaña con la celebración de ‘Sierra Blanca Trail’\, este sábado 14\, y ‘Epic Trail’\, el 21 de febrero\, que reunirán a corredores de 45 países \nMarbella\, 11 de febrero de 2026.-Marbella continúa reforzando su liderazgo en las carreras de montaña con la celebración de ‘Sierra Blanca Trail’\, que tendrá lugar este sábado 14\, y ‘Epic Trail’\, que se desarrollará el 21 de febrero\, y que congregarán a corredores de 45 países. \n‘Sierra Blanca Trail’ “alcanza este año su undécima edición plenamente consolidada en el calendario internacional con tres distancias competitivas de 40\, 32 y 13\,5 kilómetros\, todas ellas con inscripciones completas y récord de participación”. \n \nEn total\, la prueba reunirá a 1.000 corredores procedentes de 45 países\, con equipos líderes como Francia\, con más de 40 atletas\, seguidos por Reino Unido\, Alemania y Suecia\, y representantes de países como Canadá\, Estados Unidos\, Chile\, Venezuela\, China y Malasia\, mientras que a nivel nacional estarán representadas 15 comunidades autónomas y 25 provincias\, además de un elevado número de acompañantes y público ”que reforzará el impacto turístico y económico para la localidad”. \nLa cita del 14 de febrero tendrá continuidad la semana siguiente con la celebración de la tercera edición de ‘Marbella Epic Trail’\, “una prueba de ultra distancia de 66 kilómetros y más de 5.000 metros de desnivel positivo\, dirigida a corredores expertos y altamente preparados\, con requisitos previos de experiencia acreditada” que\, como ha especificado\, será la primera prueba puntuable de la Copa Andaluza de Ultra Distancia y reunirá a representantes de más de 20 países.
URL:https://marbellachic.com/evento-marbella/sierra-blanca-trail-y-epic-trail/
LOCATION:marbella\, Marbella\, Marbella\, Málaga\, España
CATEGORIES:evento deportivo
ATTACH;FMTTYPE=image/jpeg:https://marbellachic.com/wp-content/uploads/2026/02/IMG_1754.jpg
END:VEVENT
END:VCALENDAR