BEGIN:VCALENDAR
VERSION:2.0
PRODID:-//Marbella Chic - ECPv6.10.1//NONSGML v1.0//EN
CALSCALE:GREGORIAN
METHOD:PUBLISH
X-ORIGINAL-URL:https://marbellachic.com
X-WR-CALDESC:Eventos para Marbella Chic
REFRESH-INTERVAL;VALUE=DURATION:PT1H
X-Robots-Tag:noindex
X-PUBLISHED-TTL:PT1H
BEGIN:VTIMEZONE
TZID:Europe/Madrid
BEGIN:DAYLIGHT
TZOFFSETFROM:+0100
TZOFFSETTO:+0200
TZNAME:CEST
DTSTART:20230326T010000
END:DAYLIGHT
BEGIN:STANDARD
TZOFFSETFROM:+0200
TZOFFSETTO:+0100
TZNAME:CET
DTSTART:20231029T010000
END:STANDARD
END:VTIMEZONE
BEGIN:VEVENT
DTSTART;TZID=Europe/Madrid:20230119T200000
DTEND;TZID=Europe/Madrid:20230119T220000
DTSTAMP:20260422T045046
CREATED:20230112T211727Z
LAST-MODIFIED:20230112T211727Z
UID:23539-1674158400-1674165600@marbellachic.com
SUMMARY:Exposición de Curro Leyton y mural en Casino Marbella
DESCRIPTION:Exposición de Curro Leyton y mural en Casino Marbella \nEl próximo 19 de enero 2023 Casino Marbella presentará una exposición de pintura con la nueva colección del reconocido artista malagueño Curro Leyton. Al mismo tiempo\, se inaugurará un impresionante mural artístico en la fachada sur del edificio\, renovando la imagen exterior del Casino\, donde el espectacular lienzo histórico se funde en perfecta sintonía con el estilo vanguardista del pintor.
URL:https://marbellachic.com/evento-marbella/exposicion-de-curro-leyton-y-mural-en-casino-marbella/
LOCATION:Casino Marbella\, Edificio Hard Rock Hotel Marbella\, Puerto Banús\, Marbella\, Málaga\, 29600\, España
CATEGORIES:Exposición
ATTACH;FMTTYPE=image/jpeg:https://marbellachic.com/wp-content/uploads/2023/01/Invitacion-Exposicion-Curro-Leyton.jpg
END:VEVENT
END:VCALENDAR