BEGIN:VCALENDAR
VERSION:2.0
PRODID:-//Marbella Chic - ECPv6.10.1//NONSGML v1.0//EN
CALSCALE:GREGORIAN
METHOD:PUBLISH
X-WR-CALNAME:Marbella Chic
X-ORIGINAL-URL:https://marbellachic.com
X-WR-CALDESC:Eventos para Marbella Chic
REFRESH-INTERVAL;VALUE=DURATION:PT1H
X-Robots-Tag:noindex
X-PUBLISHED-TTL:PT1H
BEGIN:VTIMEZONE
TZID:Europe/Madrid
BEGIN:DAYLIGHT
TZOFFSETFROM:+0100
TZOFFSETTO:+0200
TZNAME:CEST
DTSTART:20260329T010000
END:DAYLIGHT
BEGIN:STANDARD
TZOFFSETFROM:+0200
TZOFFSETTO:+0100
TZNAME:CET
DTSTART:20261025T010000
END:STANDARD
END:VTIMEZONE
BEGIN:VEVENT
DTSTART;TZID=Europe/Madrid:20260305T190000
DTEND;TZID=Europe/Madrid:20260305T210000
DTSTAMP:20260420T054512
CREATED:20260218T223054Z
LAST-MODIFIED:20260218T223054Z
UID:32823-1772737200-1772744400@marbellachic.com
SUMMARY:La Traviata’ de Verdi en Estepona
DESCRIPTION:La Traviata’ de Verdi en Estepona. La Ópera ‘La Traviata’ de Verdi llega al Teatro Auditorio Felipe VI con más de 70 artistas en escena y primeros solistas internacionales del Teatro Nacional de la Ópera de Moldavia. La ópera en tres actos basada en ‘La dama de las camelias’\, de Alejandro Dumas\, se representará el jueves 5 de marzo\, a las 19:00 horas\, con subtítulos en castellano.  \nMarbella 18 de febrero de 2026.- El Ayuntamiento de Estepona informa que la Compañía de Ópera Leonor Gago Artist Managemen\, LGAM\, presentará ‘La Traviata’\, de Giuseppe Verdi\, el próximo jueves 5 de marzo\, a las 19:00 horas\, en el Teatro Auditorio Felipe VI. \n‘La Traviata’ es una de las óperas más célebres de Giuseppe Verdi\, con libreto de Francesco Maria Piave\, basada en la novela ‘La Dama de las Camelias’\, de Alejandro Dumas. Su estreno tuvo lugar el 6 de marzo de 1853 en el Teatro La Fenice de Venecia. Aunque su primera representación no fue bien recibida\, pronto se consolidó como una de las obras más representadas del repertorio universal. \nLa Traviata es célebre por su profundidad emocional\, la riqueza de su partitura y arias inolvidables como ‘Sempre libera’\, ‘Libiamo ne’ lieti calici’ o ‘Addio del passato’. Verdi logra aquí una conmovedora síntesis entre drama humano y música lírica de altísima belleza. Hoy en día\, sigue siendo uno de los títulos más representados en el mundo\, ejemplo magistral del poder expresivo del género operístico y del genio de Verdi. \nLa ópera narra la historia de Violetta Valéry\, una cortesana parisina que se enamora del joven Alfredo Germont. Sin embargo\, el padre de Alfredo\, Giorgio Germont\, se opone a la relación por razones sociales. Violetta\, por amor\, se sacrifica y se aleja. Solo al final\, cuando la verdad se revela\, Alfredo regresa junto a ella\, pero ya es demasiado tarde: Violetta muere a causa de una enfermedad. \nLas entradas están a la venta en teatroestepona.com\, y en taquilla del Auditorio el día de la función\, desde dos horas antes del inicio.
URL:https://marbellachic.com/evento-marbella/la-traviata-de-verdi-en-estepona/
LOCATION:Estepona-Auditorio\, Calle Diputado Ignacio\, Mena\, s/n\,\, Estepona\, Málaga\, 29680\, España
CATEGORIES:Teatro
ATTACH;FMTTYPE=image/jpeg:https://marbellachic.com/wp-content/uploads/2026/02/260305-La-Traviata-estepona.jpg
END:VEVENT
END:VCALENDAR