BEGIN:VCALENDAR
VERSION:2.0
PRODID:-//Marbella Chic - ECPv6.10.1//NONSGML v1.0//EN
CALSCALE:GREGORIAN
METHOD:PUBLISH
X-ORIGINAL-URL:https://marbellachic.com
X-WR-CALDESC:Eventos para Marbella Chic
REFRESH-INTERVAL;VALUE=DURATION:PT1H
X-Robots-Tag:noindex
X-PUBLISHED-TTL:PT1H
BEGIN:VTIMEZONE
TZID:Europe/Madrid
BEGIN:DAYLIGHT
TZOFFSETFROM:+0100
TZOFFSETTO:+0200
TZNAME:CEST
DTSTART:20260329T010000
END:DAYLIGHT
BEGIN:STANDARD
TZOFFSETFROM:+0200
TZOFFSETTO:+0100
TZNAME:CET
DTSTART:20261025T010000
END:STANDARD
END:VTIMEZONE
BEGIN:VEVENT
DTSTART;TZID=Europe/Madrid:20260328T190000
DTEND;TZID=Europe/Madrid:20260405T230000
DTSTAMP:20260419T185839
CREATED:20260312T083140Z
LAST-MODIFIED:20260312T083140Z
UID:32920-1774724400-1775430000@marbellachic.com
SUMMARY:Semana Santa Marbella\, San Pedro Alcántara y Nueva Andalucía
DESCRIPTION:Durante toda la semana\, Marbella vive intensamente sus tradiciones con la participación de hermandades\, bandas de música\, portadores y miles de fieles que acompañan cada recorrido. La Semana Santa se convierte así en uno de los principales atractivos culturales y turísticos de la ciudad\, combinando historia\, arte sacro y devoción en un entorno único como es el casco antiguo marbellí. \nAquí os dejamos el programa COMPLETO con los horarios\, actos e itinerarios …  \nPrograma Semana Santa Marbella 2026 con horarios e itinerarios
URL:https://marbellachic.com/evento-marbella/semana-santa-marbella-san-pedro-alcantara-y-nueva-andalucia/
LOCATION:marbella\, Marbella\, Marbella\, Málaga\, España
CATEGORIES:Evento
ATTACH;FMTTYPE=image/jpeg:https://marbellachic.com/wp-content/uploads/2026/03/semana_santa_cartel.jpg
END:VEVENT
END:VCALENDAR